{
 "version": 1.0,
 "tileBundlesPath": "./tile",
 "tileInfo": {
  "spatialReference": {
   "wkid": 3009,
   "latestWkid": 3009
  },
  "origin": {
   "x": 147000,
   "y": 6280000
  },
  "rows": 512,
  "cols": 512,
  "dpi": 96,
  "lods": [
   {
    "level": 0,
    "resolution": 211.66709000084668,
    "scale": 800000
   },
   {
    "level": 1,
    "resolution": 132.2919312505292,
    "scale": 500000
   },
   {
    "level": 2,
    "resolution": 66.1459656252646,
    "scale": 250000
   },
   {
    "level": 3,
    "resolution": 26.458386250105836,
    "scale": 100000
   },
   {
    "level": 4,
    "resolution": 13.229193125052918,
    "scale": 50000
   },
   {
    "level": 5,
    "resolution": 5.291677250021167,
    "scale": 20000
   },
   {
    "level": 6,
    "resolution": 3.9687579375158752,
    "scale": 15000
   },
   {
    "level": 7,
    "resolution": 2.6458386250105836,
    "scale": 10000
   },
   {
    "level": 8,
    "resolution": 1.3229193125052918,
    "scale": 5000
   },
   {
    "level": 9,
    "resolution": 0.6614596562526459,
    "scale": 2500
   },
   {
    "level": 10,
    "resolution": 0.26458386250105836,
    "scale": 1000
   },
   {
    "level": 11,
    "resolution": 0.13229193125052918,
    "scale": 500
   },
   {
    "level": 12,
    "resolution": 0.05291677250021167,
    "scale": 200
   }
  ],
  "format": "PNG",
  "compressionQuality": 0,
  "bandCount": 1,
  "lercError": 0,
  "storageFormat": "esriMapCacheStorageModeCompactV2",
  "packetSize": 128
 },
 "storageInfo": {
  "packetSize": 128,
  "storageFormat": "esriMapCacheStorageModeCompactV2"
 },
 "tileImageInfo": {
  "format": "PNG",
  "compressionQuality": 0,
  "bandCount": 1,
  "lercError": 0
 },
 "name": "KarlskronaFargTC",
 "minLOD": 0,
 "maxLOD": 12,
 "spatialReference": {
  "wkid": 3009,
  "latestWkid": 3009
 },
 "units": "esriMeters",
 "serviceDescription": "",
 "resampling": true,
 "initialExtent": {
  "xmin": 101702.02565405131,
  "ymin": 6175920.275590551,
  "xmax": 273813.82821098977,
  "ymax": 6285061.118872237,
  "spatialReference": {
   "wkid": 3009,
   "latestWkid": 3009
  }
 },
 "fullExtent": {
  "xmin": 101702.02565405131,
  "ymin": 6175920.275590551,
  "xmax": 273813.82821098977,
  "ymax": 6285061.118872237,
  "spatialReference": {
   "wkid": 3009,
   "latestWkid": 3009
  }
 },
 "minScale": 800000,
 "maxScale": 200,
 "exportTilesAllowed": false,
 "maxExportTilesCount": 0,
 "currentVersion": 11.1,
 "mapName": "KarlskronaFargTC",
 "singleFusedMapCache": true,
 "type": "MapServer",
 "supportedExtensions": "",
 "capabilities": "TilesOnly,Tilemap",
 "serviceItemId": "94e9ab8286f74b3e968a6c44901d1df3"
}
